BEGIN:VCALENDAR
PRODID:-//MIADI//DE
BEGIN:VEVENT
UID:Gottesdienst zum Weihnachtstag-1363243
SUMMARY:Gottesdienst zum Weihnachtstag
DESCRIPTION:Gottesdienst in lutherischer Tradition am Weihnachtstag.
LOCATION:St. Marien, Marienkirchhof 1, 23552 Lübeck, Deutschland
DTSTART:20261225T120000
DTEND:20261225T130000
END:VEVENT
END:VCALENDAR