BEGIN:VCALENDAR
PRODID:-//MIADI//DE
BEGIN:VEVENT
UID:ROBERTO CAPITONI-1363197
SUMMARY:ROBERTO CAPITONI - 60 ist das neue 40
DESCRIPTION:60 ist das neue 40
LOCATION:Comödie Lübeck, Dr.-Julius-Leber-Straße 25, 23552 Lübeck, Deutschland
DTSTART:20270218T193000
DTEND:20270218T213000
END:VEVENT
END:VCALENDAR