BEGIN:VCALENDAR
PRODID:-//MIADI//DE
BEGIN:VEVENT
UID:&quot;Offener Kreis am Dom&quot;-1363168
SUMMARY:"Offener Kreis am Dom"
DESCRIPTION:Eine "Blaue Stunde" ohne Erwartungen und Verpflichtungen.
LOCATION:Dom zu Lübeck, Domkirchhof, 23552 Lübeck, Deutschland
DTSTART:20271028T170000
DTEND:20271028T180000
END:VEVENT
END:VCALENDAR