BEGIN:VCALENDAR
PRODID:-//MIADI//DE
BEGIN:VEVENT
UID:Dialogischer Rundgang-1362481
SUMMARY:Dialogischer Rundgang
DESCRIPTION:
LOCATION:Kunsthalle St. Annen, St. Annen-Straße 15, 23552 Lübeck, Deutschland
DTSTART:20261010T150000
DTEND:20261010T160000
END:VEVENT
END:VCALENDAR