BEGIN:VCALENDAR
PRODID:-//MIADI//DE
BEGIN:VEVENT
UID:Kunst-Mittagspause-1362479
SUMMARY:Kunst-Mittagspause
DESCRIPTION:Kurzführung
LOCATION:Kunsthalle St. Annen, St. Annen-Straße 15, 23552 Lübeck, Deutschland
DTSTART:20260916T123000
DTEND:20260916T130000
END:VEVENT
END:VCALENDAR