BEGIN:VCALENDAR
PRODID:-//MIADI//DE
BEGIN:VEVENT
UID:Punkrock Meuterei 2026-1362330
SUMMARY:Punkrock Meuterei 2026
DESCRIPTION:10 Jahre Punkrock Meuterei. Das wird ein riesengroßes Fest. Wir feiern mit euch. 2026 mit einem größeren Line Up. Und jeder Menge Spaß.
LOCATION:Kulturwerkstatt Forum e.V., Wieksbergstraße 2-4, 23730 Neustadt in Holstein, Deutschland
DTSTART:20261114T184500
DTEND:20261114T235900
END:VEVENT
END:VCALENDAR