BEGIN:VCALENDAR
PRODID:-//MIADI//DE
BEGIN:VEVENT
UID:Exklusiv für Frauen: Besuch des Schleswig-Holsteinischen Landtags in Kiel - Live dabei &amp; im Gespräch-1361449
SUMMARY:Exklusiv für Frauen: Besuch des Schleswig-Holsteinischen Landtags in Kiel - Live dabei & im Gespräch - Kostenfreie Exkursion mit Anne Metten - Inkl. Fahrt\, Führung & Austausch mit Landtagsabgeordneten
DESCRIPTION:Erleben Sie den Landtag live! Exklusiv für Frauen: Besuch einer Sitzung in Kiel\, Gespräch mit Abgeordneten & Einblicke in politische Arbeit. Kostenfrei inkl. Fahrt - Anmeldung bis 02.09.2026 über VHS Lübeck. Kinder nach Rücksprache willkommen.
LOCATION:VHS Lübeck | Hüxstraße, Hüxstraße 118-120, 23552 Lübeck, Deutschland
DTSTART:20260916T000000
DTEND:20260916T000100
END:VEVENT
END:VCALENDAR