BEGIN:VCALENDAR
PRODID:-//MIADI//DE
BEGIN:VEVENT
UID:Paper Moon-1360054
SUMMARY:Paper Moon
DESCRIPTION:Live-Zeichnungen\, Musik und Schauspiel zu Raumfahrt und Weltall\nMit Künstler und Livezeichner Robert Nippoldt - bekannt aus der komischen Operette »Candide«.\nEin retro-futuristisches Astro-Vergnügen nicht nur für Space-Fans!\nMit Papierelementen\, Handpuppen\, Textpanels\, Live-Animationen & Zeichnungen\n\nEine poetische Reise zu den Sternen
LOCATION:Theater Lübeck\, Großes Haus, Beckergrube 16, 23552 Lübeck, Deutschland
DTSTART:20261010T193000
DTEND:20261010T213000
END:VEVENT
END:VCALENDAR