BEGIN:VCALENDAR
PRODID:-//MIADI//DE
BEGIN:VEVENT
UID:OLIVER POLAK-1356521
SUMMARY:OLIVER POLAK - COMEDY - Club Tour 2026
DESCRIPTION:
LOCATION:Theaterschiff Lübeck, Willy-Brandt-Allee 10k, 23554 Lübeck, Deutschland
DTSTART:20261015T200000
DTEND:20261015T220000
END:VEVENT
END:VCALENDAR