BEGIN:VCALENDAR
PRODID:-//MIADI//DE
BEGIN:VEVENT
UID:Krimilesung &quot;Unter dem Strand&quot; in Travemünde-1355061
SUMMARY:Krimilesung "Unter dem Strand" in Travemünde
DESCRIPTION:Turid Müller - Psychologin\, Schauspielerin und Autorin - liest aus ihrem neuen Kriminalroman "Unter dem\nStrand" vor.
LOCATION:Bibliothek der Hansestadt Lübeck, Nordlandring 15, 23570 Travemünde, Deutschland
DTSTART:20260422T170000
DTEND:20260422T190000
END:VEVENT
END:VCALENDAR