BEGIN:VCALENDAR
PRODID:-//MIADI//DE
BEGIN:VEVENT
UID:Herzbeben - Jetzt wird es mal wieder richtig Schlager-1351464
SUMMARY:Herzbeben - Jetzt wird es mal wieder richtig Schlager
DESCRIPTION:
LOCATION:Theaterschiff Lübeck, Willy-Brandt-Allee 10k, 23554 Lübeck, Deutschland
DTSTART:20260719T150000
DTEND:20260719T170000
END:VEVENT
END:VCALENDAR