BEGIN:VCALENDAR
PRODID:-//MIADI//DE
BEGIN:VEVENT
UID:Lars Ruth-1342989
SUMMARY:Lars Ruth -  "Die Reise des Sehers"
DESCRIPTION:
LOCATION:Theaterschiff Lübeck, Willy-Brandt-Allee 10k, 23554 Lübeck, Deutschland
DTSTART:20261014T193000
DTEND:20261014T223000
END:VEVENT
END:VCALENDAR