BEGIN:VCALENDAR
PRODID:-//MIADI//DE
BEGIN:VEVENT
UID:Wort zum Alltag mit Orgelmusik (anschl. Kirchenführung)-1342966
SUMMARY:Wort zum Alltag mit Orgelmusik (anschl. Kirchenführung)
DESCRIPTION:Ein "anderer" Blick auf den Tag.
LOCATION:St. Marien, Marienkirchhof 1, 23552 Lübeck, Deutschland
DTSTART:20261010T120000
DTEND:20261010T122000
END:VEVENT
END:VCALENDAR