BEGIN:VCALENDAR
PRODID:-//MIADI//DE
BEGIN:VEVENT
UID:Hand in Hand-1362560
SUMMARY:Hand in Hand
DESCRIPTION:Uraufführung\n\nvon Albrecht Metzger · Uraufführung
LOCATION:Theater Lübeck\, Studio, Beckergrube 16, 23552 Lübeck, Deutschland
DTSTART:20261010T200000
DTEND:20261010T214500
END:VEVENT
END:VCALENDAR