BEGIN:VCALENDAR
PRODID:-//MIADI//DE
BEGIN:VEVENT
UID:Hand in Hand-1355184
SUMMARY:Hand in Hand
DESCRIPTION:Uraufführung\n\nvon Albrecht Metzger · Uraufführung
LOCATION:Theater Lübeck\, Studio, Beckergrube 16, 23552 Lübeck, Deutschland
DTSTART:20260523T200000
DTEND:20260523T214500
END:VEVENT
END:VCALENDAR