BEGIN:VCALENDAR
PRODID:-//MIADI//DE
BEGIN:VEVENT
UID:Steine zum Staunen - Führung zur Sanierung der Domtürme-1349986
SUMMARY:Steine zum Staunen - Führung zur Sanierung der Domtürme - "Steine zum Staunen" - Führung zur Sanierung der Domtürme
DESCRIPTION:Öffentliche Führung. \nDauer ca. 1 Stunde. Eintritt frei
LOCATION:Dom zu Lübeck, Domkirchhof, 23552 Lübeck, Deutschland
DTSTART:20260808T120000
DTEND:20260808T130000
END:VEVENT
END:VCALENDAR