BEGIN:VCALENDAR
PRODID:-//MIADI//DE
BEGIN:VEVENT
UID:Lübeck Glanz und Gloria - Innenansichten-1351120
SUMMARY:Lübeck Glanz und Gloria - Innenansichten
DESCRIPTION:Folgen Sie uns zu den Highlights in der Altstadt und lernen Sie die berühmten Sehenswürdigkeiten von innen kennen!
LOCATION:Buddenbrooks am Markt, Markt 15, 23552 Lübeck, Deutschland
DTSTART:20260620T141500
DTEND:20260620T161500
END:VEVENT
END:VCALENDAR