BEGIN:VCALENDAR
PRODID:-//MIADI//DE
BEGIN:VEVENT
UID:LÜBECKER ÜBERGANGSGARTEN-1086783
SUMMARY:LÜBECKER ÜBERGANGSGARTEN
DESCRIPTION:Zwischen Tomate und Minze lässt es sich von der Stadt der Zukunft träumen. • lübeckübergangsweise.de
LOCATION:auf dem Koberg, Koberg, 23552 Lübeck, Deutschland
DTSTART:20250721T060000
DTEND:20250721T230000
END:VEVENT
END:VCALENDAR