BEGIN:VCALENDAR
PRODID:-//MIADI//DE
BEGIN:VEVENT
UID:LÜBECKER ÜBERGANGSWIESE-1085845
SUMMARY:LÜBECKER ÜBERGANGSWIESE
DESCRIPTION:Eine Wiese mitten in der Stadt\, als Einladung an ein Träumen von der Zukunft. • lübeckübergangsweise.de
LOCATION:auf dem Schrangen, Schrangen, 23552 Lübeck, Deutschland
DTSTART:20230721T060000
DTEND:20230721T230000
END:VEVENT
END:VCALENDAR