BEGIN:VCALENDAR
PRODID:-//MIADI//DE
BEGIN:VEVENT
UID:Wochenmarkt Moisling -979055
SUMMARY:Wochenmarkt Moisling 
DESCRIPTION:Gesund und draußen! Deine Einkaufszentren unter freiem Himmel. • Öffnungszeiten Wochenmarkt Moisling: freitags 7.30-13.00 Uhr • Informiere dich zu Regelungen an Feiertagen. • luebeck.de
LOCATION:Wochenmarkt Moisling, Andersenring 3 (Parkplatz), 23560 Lübeck, Deutschland
DTSTART:20230721T073000
DTEND:20230721T130000
END:VEVENT
END:VCALENDAR