BEGIN:VCALENDAR
PRODID:-//MIADI//DE
BEGIN:VEVENT
UID:Wochenmarkt Kücknitz-978491
SUMMARY:Wochenmarkt Kücknitz
DESCRIPTION:Gesund und draußen! Deine Einkaufszentren unter freiem Himmel. • Öffnungszeiten Wochenmarkt Kücknitz: freitags 7.30-13.00 Uhr • Informiere dich zu Regelungen an Feiertagen. • luebeck.de
LOCATION:Wochenmarkt Kücknitz, Kirchplatz, 23569 Lübeck, Deutschland
DTSTART:20230721T073000
DTEND:20230721T130000
END:VEVENT
END:VCALENDAR